BEGIN:VCALENDAR
VERSION:2.0
PRODID:-//Miasto i Gmina Pułtusk - ECPv6.15.11//NONSGML v1.0//EN
CALSCALE:GREGORIAN
METHOD:PUBLISH
X-ORIGINAL-URL:https://pultusk.pl
X-WR-CALDESC:Wydarzenia dla Miasto i Gmina Pułtusk
REFRESH-INTERVAL;VALUE=DURATION:PT1H
X-Robots-Tag:noindex
X-PUBLISHED-TTL:PT1H
BEGIN:VTIMEZONE
TZID:Europe/Warsaw
BEGIN:DAYLIGHT
TZOFFSETFROM:+0100
TZOFFSETTO:+0200
TZNAME:CEST
DTSTART:20250330T010000
END:DAYLIGHT
BEGIN:STANDARD
TZOFFSETFROM:+0200
TZOFFSETTO:+0100
TZNAME:CET
DTSTART:20251026T010000
END:STANDARD
BEGIN:DAYLIGHT
TZOFFSETFROM:+0100
TZOFFSETTO:+0200
TZNAME:CEST
DTSTART:20260329T010000
END:DAYLIGHT
BEGIN:STANDARD
TZOFFSETFROM:+0200
TZOFFSETTO:+0100
TZNAME:CET
DTSTART:20261025T010000
END:STANDARD
BEGIN:DAYLIGHT
TZOFFSETFROM:+0100
TZOFFSETTO:+0200
TZNAME:CEST
DTSTART:20270328T010000
END:DAYLIGHT
BEGIN:STANDARD
TZOFFSETFROM:+0200
TZOFFSETTO:+0100
TZNAME:CET
DTSTART:20271031T010000
END:STANDARD
END:VTIMEZONE
BEGIN:VEVENT
DTSTART;TZID=Europe/Warsaw:20260626T080000
DTEND;TZID=Europe/Warsaw:20260828T170000
DTSTAMP:20260421T000515
CREATED:20260209T143003Z
LAST-MODIFIED:20260209T143003Z
UID:314368174-1782460800-1787936400@pultusk.pl
SUMMARY:Wystawa „TERAZ PUŁTUSK” pod hasłem PułtuskART’26 – zapraszamy do udziału
DESCRIPTION:Z ogromną przyjemnością zapraszamy Państwa do udziału w kolejnej odsłonie wyjątkowej wystawy „TERAZ PUŁTUSK” pod hasłem PułtuskART’26. \nWystawa odbędzie się w przestrzeni Galerii Miejskiego Centrum Kultury i Sztuki w Pułtusku w okresie od 26 czerwca do 28 sierpnia 2026 roku. \nZgłoszenia do udziału oraz prace (maksymalnie 3) należy dostarczyć najpóźniej do dnia 15 maja 2026 roku. Termin jest nieprzekraczalny — po tej dacie zgłoszenia ani prace nie będą przyjmowane. \nZapraszamy do zgłaszania dzieł wykonanych w szerokim spektrum technik – od malarstwa\, grafiki\, rzeźby\, po ceramikę\, biżuterię\, haft\, tkaniny\, koronki – sztuka ma niejedno oblicze i w każdej formie jest mile widziana. \nKontakt w sprawie wystawy: \n\nAnimator kultury – Paulina Kasińska\ntel. 571 426 613\ngaleria@mckispultusk.pl
URL:https://pultusk.pl/event/wystawa-teraz-pultusk-pod-haslem-pultuskart26-zapraszamy-do-udzialu/
ATTACH;FMTTYPE=image/jpeg:https://pultusk.pl/wp-content/uploads/2026/02/obrazek_wyroznajancy_nowy12.jpg
END:VEVENT
END:VCALENDAR